BEGIN:VCALENDAR
VERSION:2.0
PRODID:-//wp-events-plugin.com//7.2.3.1//EN
TZID:America/Chicago
X-WR-TIMEZONE:America/Chicago
BEGIN:VEVENT
UID:1130@codcon.com
DTSTART;TZID=America/Chicago:20260418T140000
DTEND;TZID=America/Chicago:20260418T180000
DTSTAMP:20260228T200106Z
URL:https://www.codcon.com/events/starfinder-society-2e-1-07-seize-and-des
 troy-levels-1-2/
SUMMARY:Starfinder Society 2e #1-07: Seize and Destroy (Levels 1-2)
DESCRIPTION:A Starfinder Society Scenario designed for 1st- through 2nd-lev
 el characters\, playable in 2-3 hours.\n\nFrom their newly founded lodge i
 n the Sloughscar Hills\, the Starfinder Society studies the Wreck of the R
 eturned\, a massive crashed starship the Starfinders believe was dispatche
 d by the long-lost First Ones. Recent excavations into other First Ones si
 tes uncovered powerful weapons\, dangerous technology\, and volatile magic
 —incredibly valuable discoveries capable of causing immense harm should 
 they fall into irresponsible hands. While the Starfinder Society would lov
 e to enter the Wreck of the Returned directly\, the Wreck’s automated de
 fenses and networked robotic servitors make such an expedition incredibly 
 dangerous. Fortunately\, the Starfinders have discovered a nearby site of 
 interest: a sizable piece of wreckage which detached during the crash and 
 landed off-site. Eager for answers\, the Starfinders dispatch a team to th
 e crash site to investigate.\n\nUnfortunately\, Hellknights from the Order
  of the Eclipse are already inside the wreckage\, and their mandate to con
 trol\, suppress\, or destroy dangerous information and technology means th
 ey have no intention of sharing anything they uncover. It’s up to the St
 arfinders to explore the wreckage and gather information\, before the Hell
 knights systematically seize\, censor\, and destroy everything in their pa
 th.\n\nThis is an adventure in the ongoing Invasion's Edge metaplot.
ATTACH;FMTTYPE=image/jpeg:https://www.codcon.com/wp-content/uploads/2026/0
 2/Seize-and-Destroy.jpg
CATEGORIES:RPG,TableTop Game
END:VEVENT
BEGIN:VTIMEZONE
TZID:America/Chicago
X-LIC-LOCATION:America/Chicago
BEGIN:DAYLIGHT
DTSTART:20260308T030000
TZOFFSETFROM:-0600
TZOFFSETTO:-0500
TZNAME:CDT
END:DAYLIGHT
END:VTIMEZONE
END:VCALENDAR