BEGIN:VCALENDAR
VERSION:2.0
PRODID:-//wp-events-plugin.com//7.2.3.1//EN
TZID:America/Chicago
X-WR-TIMEZONE:America/Chicago
BEGIN:VEVENT
UID:1136@codcon.com
DTSTART;TZID=America/Chicago:20260419T090000
DTEND;TZID=America/Chicago:20260419T130000
DTSTAMP:20260228T200429Z
URL:https://www.codcon.com/events/pathfinder-society-2e-2-09-seven-secrets
 -of-dacilane-academy-levels-1-4/
SUMMARY:Pathfinder Society 2e #2-09: Seven Secrets of Dacilane Academy (Lev
 els 1-4)
DESCRIPTION:A Pathfinder Society Scenario designed for levels 1-4.\n\nDacil
 ane Academy\, located near the Grand Lodge\, is a storied institution that
  sees to the education of many children of Pathfinders. However\, the acad
 emy’s benefactor\, J Dacilane\, has recently heard rumors from his stude
 nts of seven strange phenomena manifesting on campus. Despite his doubts t
 hat these are simply the imaginings of students raised on Pathfinder tales
 \, J has called in a favor with the Pathfinder Society to investigate—bo
 th to put his students’ minds at ease and for the good learning opportun
 ity a Society report about the school would provide. But are there more to
  these urban legends than meets the eye?
ATTACH;FMTTYPE=image/jpeg:https://www.codcon.com/wp-content/uploads/2026/0
 2/Seven-Secrets-of-Dacilane-Academy.jpg
CATEGORIES:RPG,TableTop Game
END:VEVENT
BEGIN:VTIMEZONE
TZID:America/Chicago
X-LIC-LOCATION:America/Chicago
BEGIN:DAYLIGHT
DTSTART:20260308T030000
TZOFFSETFROM:-0600
TZOFFSETTO:-0500
TZNAME:CDT
END:DAYLIGHT
END:VTIMEZONE
END:VCALENDAR