BEGIN:VCALENDAR
VERSION:2.0
PRODID:-//wp-events-plugin.com//7.2.3.1//EN
TZID:America/Chicago
X-WR-TIMEZONE:America/Chicago
BEGIN:VEVENT
UID:882@codcon.com
DTSTART;TZID=America/Chicago:20240413T090000
DTEND;TZID=America/Chicago:20240413T120000
DTSTAMP:20240311T130227Z
URL:https://www.codcon.com/events/great-western-trail/
SUMMARY:Great Western Trail
DESCRIPTION:America in the 19th century: You are a rancher and repeatedly h
 erd your cattle from Texas to Kansas City\, where you send them off by tra
 in. This earns you money and victory points. Needless to say\, each time y
 ou arrive in Kansas City\, you want to have your most valuable cattle in t
 ow. However\, the "Great Western Trail" not only requires that you keep yo
 ur herd in good shape\, but also that you wisely use the various buildings
  along the trail. Also\, it might be a good idea to hire capable staff: co
 wboys to improve your herd\, craftsmen to build your very own buildings\, 
 or engineers for the important railroad line.
CATEGORIES:Board Games
END:VEVENT
BEGIN:VTIMEZONE
TZID:America/Chicago
X-LIC-LOCATION:America/Chicago
BEGIN:DAYLIGHT
DTSTART:20240310T030000
TZOFFSETFROM:-0600
TZOFFSETTO:-0500
TZNAME:CDT
END:DAYLIGHT
END:VTIMEZONE
END:VCALENDAR