BEGIN:VCALENDAR
VERSION:2.0
PRODID:-//wp-events-plugin.com//7.2.3.1//EN
TZID:America/Chicago
X-WR-TIMEZONE:America/Chicago
BEGIN:VEVENT
UID:756@codcon.com
DTSTART;TZID=America/Chicago:20230414T180000
DTEND;TZID=America/Chicago:20230414T230000
DTSTAMP:20230315T025918Z
URL:https://www.codcon.com/events/grand-archive-demo/
SUMMARY:Grand Archive Demo
DESCRIPTION:New Kickstarter game demonstration before release at the end of
  April. Join us to learn the new hot TCG with Anime art with a western des
 ign!\n\nhttps://www.gatcg.com/
CATEGORIES:Card Games
END:VEVENT
BEGIN:VTIMEZONE
TZID:America/Chicago
X-LIC-LOCATION:America/Chicago
BEGIN:DAYLIGHT
DTSTART:20230312T030000
TZOFFSETFROM:-0600
TZOFFSETTO:-0500
TZNAME:CDT
END:DAYLIGHT
END:VTIMEZONE
END:VCALENDAR