BEGIN:VCALENDAR
VERSION:2.0
PRODID:-//wp-events-plugin.com//7.2.3.1//EN
TZID:America/Chicago
X-WR-TIMEZONE:America/Chicago
BEGIN:VEVENT
UID:947@codcon.com
DTSTART;TZID=America/Chicago:20240414T130000
DTEND;TZID=America/Chicago:20240414T180000
DTSTAMP:20240407T015725Z
URL:https://www.codcon.com/events/cold-iron-conventions-po-bk-3-04-dead-in
 -the-water-1-4/
SUMMARY:Cold Iron Conventions: PO-BK-3-04 Dead in the Water (1-4)
DESCRIPTION:Notes\, journals and prophesies picked up from the ships of the
  nautical cultists point towards a ship of dead sailors approaching the sh
 ores of the Border Kingdoms. There’s just one problem: with hundreds of 
 miles of shoreline and dozens of ports\, there’s a lot that needs protec
 ting. Captain Blackblade is sending his ships out to anchor at all major p
 orts to protect the shores from the floating dead. What are the chances yo
 ur ship will come to conflict with this mysterious enemy? Part Four of the
  Pirates of the Border Kingdoms series of adventures. A 4-hour Border King
 doms adventure for characters of 1st-4th level.
CATEGORIES:D&amp;D Adventure League,RPG
END:VEVENT
BEGIN:VTIMEZONE
TZID:America/Chicago
X-LIC-LOCATION:America/Chicago
BEGIN:DAYLIGHT
DTSTART:20240310T030000
TZOFFSETFROM:-0600
TZOFFSETTO:-0500
TZNAME:CDT
END:DAYLIGHT
END:VTIMEZONE
END:VCALENDAR