BEGIN:VCALENDAR
VERSION:2.0
PRODID:-//wp-events-plugin.com//7.2.3.1//EN
TZID:America/Chicago
X-WR-TIMEZONE:America/Chicago
BEGIN:VEVENT
UID:946@codcon.com
DTSTART;TZID=America/Chicago:20240413T090000
DTEND;TZID=America/Chicago:20240413T130000
DTSTAMP:20240407T015418Z
URL:https://www.codcon.com/events/cold-iron-conventions-po-bk-3-03-smoke-o
 n-the-water-1-4/
SUMMARY:Cold Iron Conventions: PO-BK-3-03 Smoke on the Water (1-4)
DESCRIPTION:The characters are assigned the task of investigating the float
 ing city\, which is constructed from stolen ships tethered to a large barg
 e\, anchored near the center of the Lake of Steam. Part Three of the Pirat
 es of the Border Kingdoms series of adventures. A Four-Hour Adventure for 
 1st through 4th Level Characters.
CATEGORIES:D&amp;D Adventure League,RPG
END:VEVENT
BEGIN:VTIMEZONE
TZID:America/Chicago
X-LIC-LOCATION:America/Chicago
BEGIN:DAYLIGHT
DTSTART:20240310T030000
TZOFFSETFROM:-0600
TZOFFSETTO:-0500
TZNAME:CDT
END:DAYLIGHT
END:VTIMEZONE
END:VCALENDAR