BEGIN:VCALENDAR
VERSION:2.0
PRODID:-//wp-events-plugin.com//7.2.3.1//EN
TZID:America/Chicago
X-WR-TIMEZONE:America/Chicago
BEGIN:VEVENT
UID:873@codcon.com
DTSTART;TZID=America/Chicago:20250418T200000
DTEND;TZID=America/Chicago:20250418T220000
DTSTAMP:20250407T121311Z
URL:https://www.codcon.com/events/cards-against-humanity/
SUMMARY:Cards Against Humanity
DESCRIPTION:Who can come up with the most hilariously obscene answers in th
 is party game for players 17+
CATEGORIES:Card Games
END:VEVENT
BEGIN:VTIMEZONE
TZID:America/Chicago
X-LIC-LOCATION:America/Chicago
BEGIN:DAYLIGHT
DTSTART:20250309T030000
TZOFFSETFROM:-0600
TZOFFSETTO:-0500
TZNAME:CDT
END:DAYLIGHT
END:VTIMEZONE
END:VCALENDAR